BEGIN:VCALENDAR
VERSION:2.0
PRODID:-//High Desert Montessori Reno - ECPv6.8.0//NONSGML v1.0//EN
CALSCALE:GREGORIAN
METHOD:PUBLISH
X-ORIGINAL-URL:https://hdmsreno.com
X-WR-CALDESC:Events for High Desert Montessori Reno
REFRESH-INTERVAL;VALUE=DURATION:PT1H
X-Robots-Tag:noindex
X-PUBLISHED-TTL:PT1H
BEGIN:VTIMEZONE
TZID:America/Los_Angeles
BEGIN:DAYLIGHT
TZOFFSETFROM:-0800
TZOFFSETTO:-0700
TZNAME:PDT
DTSTART:20250309T100000
END:DAYLIGHT
BEGIN:STANDARD
TZOFFSETFROM:-0700
TZOFFSETTO:-0800
TZNAME:PST
DTSTART:20251102T090000
END:STANDARD
END:VTIMEZONE
BEGIN:VEVENT
DTSTART;VALUE=DATE:20250226
DTEND;VALUE=DATE:20250227
DTSTAMP:20260423T165340
CREATED:20240626T210408Z
LAST-MODIFIED:20240626T210408Z
UID:16324-1740528000-1740614399@hdmsreno.com
SUMMARY:2-Hour Early Release
DESCRIPTION:
URL:https://hdmsreno.com/event/2-hour-early-release-5/
END:VEVENT
BEGIN:VEVENT
DTSTART;TZID=America/Los_Angeles:20250226T170000
DTEND;TZID=America/Los_Angeles:20250226T180000
DTSTAMP:20260423T165340
CREATED:20240626T210451Z
LAST-MODIFIED:20240626T210451Z
UID:16326-1740589200-1740592800@hdmsreno.com
SUMMARY:HDMS Board Meeting (via Zoom)
DESCRIPTION:
URL:https://hdmsreno.com/event/hdms-board-meeting-via-zoom-6/
END:VEVENT
END:VCALENDAR