BEGIN:VCALENDAR
VERSION:2.0
PRODID:-//High Desert Montessori Reno - ECPv6.8.0//NONSGML v1.0//EN
CALSCALE:GREGORIAN
METHOD:PUBLISH
X-ORIGINAL-URL:https://hdmsreno.com
X-WR-CALDESC:Events for High Desert Montessori Reno
REFRESH-INTERVAL;VALUE=DURATION:PT1H
X-Robots-Tag:noindex
X-PUBLISHED-TTL:PT1H
BEGIN:VTIMEZONE
TZID:America/Los_Angeles
BEGIN:DAYLIGHT
TZOFFSETFROM:-0800
TZOFFSETTO:-0700
TZNAME:PDT
DTSTART:20250309T100000
END:DAYLIGHT
BEGIN:STANDARD
TZOFFSETFROM:-0700
TZOFFSETTO:-0800
TZNAME:PST
DTSTART:20251102T090000
END:STANDARD
END:VTIMEZONE
BEGIN:VEVENT
DTSTART;TZID=America/Los_Angeles:20250227T160000
DTEND;TZID=America/Los_Angeles:20250227T170000
DTSTAMP:20260423T152819
CREATED:20250219T220240Z
LAST-MODIFIED:20250219T233228Z
UID:17298-1740672000-1740675600@hdmsreno.com
SUMMARY:Elementary Interested Parent Seminar
DESCRIPTION:
URL:https://hdmsreno.com/event/elementary-new-parent-seminar-6/
END:VEVENT
BEGIN:VEVENT
DTSTART;TZID=America/Los_Angeles:20250227T164500
DTEND;TZID=America/Los_Angeles:20250227T174500
DTSTAMP:20260423T152819
CREATED:20250219T220410Z
LAST-MODIFIED:20250219T233205Z
UID:17300-1740674700-1740678300@hdmsreno.com
SUMMARY:Adolescent Interested Parent Seminar
DESCRIPTION:
URL:https://hdmsreno.com/event/adolescent-new-parent-seminar-3/
END:VEVENT
BEGIN:VEVENT
DTSTART;TZID=America/Los_Angeles:20250227T173000
DTEND;TZID=America/Los_Angeles:20250227T183000
DTSTAMP:20260423T152819
CREATED:20240626T210537Z
LAST-MODIFIED:20240626T210537Z
UID:16328-1740677400-1740681000@hdmsreno.com
SUMMARY:Family Reading Night with NNLC
DESCRIPTION:
URL:https://hdmsreno.com/event/family-reading-night-with-nnlc-5/
END:VEVENT
END:VCALENDAR