BEGIN:VCALENDAR
VERSION:2.0
PRODID:-//High Desert Montessori Reno - ECPv6.8.0//NONSGML v1.0//EN
CALSCALE:GREGORIAN
METHOD:PUBLISH
X-WR-CALNAME:High Desert Montessori Reno
X-ORIGINAL-URL:https://hdmsreno.com
X-WR-CALDESC:Events for High Desert Montessori Reno
REFRESH-INTERVAL;VALUE=DURATION:PT1H
X-Robots-Tag:noindex
X-PUBLISHED-TTL:PT1H
BEGIN:VTIMEZONE
TZID:America/Los_Angeles
BEGIN:DAYLIGHT
TZOFFSETFROM:-0800
TZOFFSETTO:-0700
TZNAME:PDT
DTSTART:20240310T100000
END:DAYLIGHT
BEGIN:STANDARD
TZOFFSETFROM:-0700
TZOFFSETTO:-0800
TZNAME:PST
DTSTART:20241103T090000
END:STANDARD
END:VTIMEZONE
BEGIN:VEVENT
DTSTART;TZID=America/Los_Angeles:20240809T140000
DTEND;TZID=America/Los_Angeles:20240809T160000
DTSTAMP:20260425T042330
CREATED:20240626T195715Z
LAST-MODIFIED:20240626T195715Z
UID:16209-1723212000-1723219200@hdmsreno.com
SUMMARY:Back to School Open House
DESCRIPTION:
URL:https://hdmsreno.com/event/back-to-school-open-house/
END:VEVENT
BEGIN:VEVENT
DTSTART;VALUE=DATE:20240812
DTEND;VALUE=DATE:20240813
DTSTAMP:20260425T042330
CREATED:20240626T195927Z
LAST-MODIFIED:20240626T200008Z
UID:16211-1723420800-1723507199@hdmsreno.com
SUMMARY:First Day of School for Pre-K & 1st-8th Grades
DESCRIPTION:
URL:https://hdmsreno.com/event/first-day-of-school-for-pre-k-1st-8th-grades/
END:VEVENT
BEGIN:VEVENT
DTSTART;VALUE=DATE:20240819
DTEND;VALUE=DATE:20240820
DTSTAMP:20260425T042330
CREATED:20240626T200136Z
LAST-MODIFIED:20240626T200136Z
UID:16213-1724025600-1724111999@hdmsreno.com
SUMMARY:First Day of School for Kinders
DESCRIPTION:
URL:https://hdmsreno.com/event/first-day-of-school-for-kinders-2/
END:VEVENT
BEGIN:VEVENT
DTSTART;TZID=America/Los_Angeles:20240821T160000
DTEND;TZID=America/Los_Angeles:20240821T180000
DTSTAMP:20260425T042330
CREATED:20240626T200433Z
LAST-MODIFIED:20240626T200433Z
UID:16215-1724256000-1724263200@hdmsreno.com
SUMMARY:Primary Back to School Night
DESCRIPTION:
URL:https://hdmsreno.com/event/primary-back-to-school-night-7/
END:VEVENT
BEGIN:VEVENT
DTSTART;TZID=America/Los_Angeles:20240822T173000
DTEND;TZID=America/Los_Angeles:20240822T183000
DTSTAMP:20260425T042330
CREATED:20240626T201214Z
LAST-MODIFIED:20240807T224344Z
UID:16217-1724347800-1724351400@hdmsreno.com
SUMMARY:PTO Meeting (Via Zoom)
DESCRIPTION:
URL:https://hdmsreno.com/event/pto-meeting-via-zoom/
END:VEVENT
BEGIN:VEVENT
DTSTART;VALUE=DATE:20240826
DTEND;VALUE=DATE:20240830
DTSTAMP:20260425T042330
CREATED:20240626T203158Z
LAST-MODIFIED:20240626T203158Z
UID:16243-1724630400-1724975999@hdmsreno.com
SUMMARY:PTO Fall Book Fair
DESCRIPTION:
URL:https://hdmsreno.com/event/pto-fall-book-fair/
END:VEVENT
BEGIN:VEVENT
DTSTART;TZID=America/Los_Angeles:20240828T170000
DTEND;TZID=America/Los_Angeles:20240828T180000
DTSTAMP:20260425T042330
CREATED:20240626T201458Z
LAST-MODIFIED:20240626T201458Z
UID:16221-1724864400-1724868000@hdmsreno.com
SUMMARY:HDMS Board Meeting (via Zoom)
DESCRIPTION:
URL:https://hdmsreno.com/event/hdms-board-meeting-via-zoom/
END:VEVENT
BEGIN:VEVENT
DTSTART;TZID=America/Los_Angeles:20240829T160000
DTEND;TZID=America/Los_Angeles:20240829T180000
DTSTAMP:20260425T042330
CREATED:20240626T201916Z
LAST-MODIFIED:20240626T201916Z
UID:16223-1724947200-1724954400@hdmsreno.com
SUMMARY:Elementary & Adolescent Back to School Night
DESCRIPTION:
URL:https://hdmsreno.com/event/elementary-adolescent-back-to-school-night-2/
END:VEVENT
BEGIN:VEVENT
DTSTART;VALUE=DATE:20240830
DTEND;VALUE=DATE:20240831
DTSTAMP:20260425T042330
CREATED:20240626T202017Z
LAST-MODIFIED:20240626T202017Z
UID:16225-1724976000-1725062399@hdmsreno.com
SUMMARY:No School - Staff Professional Development Day
DESCRIPTION:
URL:https://hdmsreno.com/event/no-school-staff-professional-development-day/
END:VEVENT
END:VCALENDAR