BEGIN:VCALENDAR
VERSION:2.0
PRODID:-//High Desert Montessori Reno - ECPv6.8.0//NONSGML v1.0//EN
CALSCALE:GREGORIAN
METHOD:PUBLISH
X-ORIGINAL-URL:https://hdmsreno.com
X-WR-CALDESC:Events for High Desert Montessori Reno
REFRESH-INTERVAL;VALUE=DURATION:PT1H
X-Robots-Tag:noindex
X-PUBLISHED-TTL:PT1H
BEGIN:VTIMEZONE
TZID:America/Los_Angeles
BEGIN:DAYLIGHT
TZOFFSETFROM:-0800
TZOFFSETTO:-0700
TZNAME:PDT
DTSTART:20240310T100000
END:DAYLIGHT
BEGIN:STANDARD
TZOFFSETFROM:-0700
TZOFFSETTO:-0800
TZNAME:PST
DTSTART:20241103T090000
END:STANDARD
END:VTIMEZONE
BEGIN:VEVENT
DTSTART;VALUE=DATE:20240902
DTEND;VALUE=DATE:20240903
DTSTAMP:20260425T054845
CREATED:20240626T202114Z
LAST-MODIFIED:20240626T202114Z
UID:16227-1725235200-1725321599@hdmsreno.com
SUMMARY:No School - Labor Day
DESCRIPTION:
URL:https://hdmsreno.com/event/no-school-labor-day-4/
END:VEVENT
BEGIN:VEVENT
DTSTART;VALUE=DATE:20240910
DTEND;VALUE=DATE:20240911
DTSTAMP:20260425T054845
CREATED:20240626T202214Z
LAST-MODIFIED:20240626T202214Z
UID:16229-1725926400-1726012799@hdmsreno.com
SUMMARY:Fall Picture Day
DESCRIPTION:
URL:https://hdmsreno.com/event/fall-picture-day-5/
END:VEVENT
BEGIN:VEVENT
DTSTART;TZID=America/Los_Angeles:20240910T160000
DTEND;TZID=America/Los_Angeles:20240910T170000
DTSTAMP:20260425T054845
CREATED:20240626T202326Z
LAST-MODIFIED:20240626T202326Z
UID:16231-1725984000-1725987600@hdmsreno.com
SUMMARY:JEDI Collaborative Meeting
DESCRIPTION:
URL:https://hdmsreno.com/event/jedi-collaborative-meeting/
END:VEVENT
BEGIN:VEVENT
DTSTART;VALUE=DATE:20240918
DTEND;VALUE=DATE:20240919
DTSTAMP:20260425T054845
CREATED:20240626T204016Z
LAST-MODIFIED:20240626T204016Z
UID:16262-1726617600-1726703999@hdmsreno.com
SUMMARY:2-Hour Early Release
DESCRIPTION:
URL:https://hdmsreno.com/event/2-hour-early-release/
END:VEVENT
BEGIN:VEVENT
DTSTART;TZID=America/Los_Angeles:20240919T173000
DTEND;TZID=America/Los_Angeles:20240919T183000
DTSTAMP:20260425T054845
CREATED:20240626T202547Z
LAST-MODIFIED:20240807T224322Z
UID:16235-1726767000-1726770600@hdmsreno.com
SUMMARY:PTO Meeting (Via Zoom)
DESCRIPTION:
URL:https://hdmsreno.com/event/pto-meeting-via-zoom-2/
END:VEVENT
BEGIN:VEVENT
DTSTART;TZID=America/Los_Angeles:20240925T170000
DTEND;TZID=America/Los_Angeles:20240925T180000
DTSTAMP:20260425T054845
CREATED:20240626T202750Z
LAST-MODIFIED:20240626T202750Z
UID:16237-1727283600-1727287200@hdmsreno.com
SUMMARY:HDMS Board Meeting (via Zoom)
DESCRIPTION:
URL:https://hdmsreno.com/event/hdms-board-meeting-via-zoom-2/
END:VEVENT
BEGIN:VEVENT
DTSTART;VALUE=DATE:20240926
DTEND;VALUE=DATE:20240927
DTSTAMP:20260425T054845
CREATED:20240919T164227Z
LAST-MODIFIED:20240919T164227Z
UID:16842-1727308800-1727395199@hdmsreno.com
SUMMARY:1st\, 4th & 7th Grade Health Screenings
DESCRIPTION:
URL:https://hdmsreno.com/event/1st-4th-7th-grade-health-screenings/
END:VEVENT
BEGIN:VEVENT
DTSTART;TZID=America/Los_Angeles:20240926T163000
DTEND;TZID=America/Los_Angeles:20240926T173000
DTSTAMP:20260425T054845
CREATED:20240626T202851Z
LAST-MODIFIED:20240626T203550Z
UID:16239-1727368200-1727371800@hdmsreno.com
SUMMARY:Family Reading Night with NNLC
DESCRIPTION:
URL:https://hdmsreno.com/event/family-reading-night/
END:VEVENT
BEGIN:VEVENT
DTSTART;TZID=America/Los_Angeles:20240927T090000
DTEND;TZID=America/Los_Angeles:20240927T100000
DTSTAMP:20260425T054845
CREATED:20240626T202937Z
LAST-MODIFIED:20240626T202937Z
UID:16241-1727427600-1727431200@hdmsreno.com
SUMMARY:2nd Cup of Coffee w/ Admin.
DESCRIPTION:
URL:https://hdmsreno.com/event/2nd-cup-of-coffee-w-admin-2/
END:VEVENT
END:VCALENDAR