BEGIN:VCALENDAR
VERSION:2.0
PRODID:-//High Desert Montessori Reno - ECPv6.8.0//NONSGML v1.0//EN
CALSCALE:GREGORIAN
METHOD:PUBLISH
X-ORIGINAL-URL:https://hdmsreno.com
X-WR-CALDESC:Events for High Desert Montessori Reno
REFRESH-INTERVAL;VALUE=DURATION:PT1H
X-Robots-Tag:noindex
X-PUBLISHED-TTL:PT1H
BEGIN:VTIMEZONE
TZID:America/Los_Angeles
BEGIN:DAYLIGHT
TZOFFSETFROM:-0800
TZOFFSETTO:-0700
TZNAME:PDT
DTSTART:20240310T100000
END:DAYLIGHT
BEGIN:STANDARD
TZOFFSETFROM:-0700
TZOFFSETTO:-0800
TZNAME:PST
DTSTART:20241103T090000
END:STANDARD
BEGIN:DAYLIGHT
TZOFFSETFROM:-0800
TZOFFSETTO:-0700
TZNAME:PDT
DTSTART:20250309T100000
END:DAYLIGHT
BEGIN:STANDARD
TZOFFSETFROM:-0700
TZOFFSETTO:-0800
TZNAME:PST
DTSTART:20251102T090000
END:STANDARD
END:VTIMEZONE
BEGIN:VEVENT
DTSTART;VALUE=DATE:20241211
DTEND;VALUE=DATE:20241212
DTSTAMP:20260423T181216
CREATED:20240626T204931Z
LAST-MODIFIED:20240626T204931Z
UID:16286-1733875200-1733961599@hdmsreno.com
SUMMARY:2-Hour Early Release
DESCRIPTION:
URL:https://hdmsreno.com/event/2-hour-early-release-3/
END:VEVENT
BEGIN:VEVENT
DTSTART;VALUE=DATE:20241216
DTEND;VALUE=DATE:20241220
DTSTAMP:20260423T181216
CREATED:20240626T205246Z
LAST-MODIFIED:20240626T205246Z
UID:16290-1734307200-1734652799@hdmsreno.com
SUMMARY:Spirit Week
DESCRIPTION:
URL:https://hdmsreno.com/event/spirit-week/
END:VEVENT
BEGIN:VEVENT
DTSTART;VALUE=DATE:20241218
DTEND;VALUE=DATE:20241219
DTSTAMP:20260423T181216
CREATED:20240626T205209Z
LAST-MODIFIED:20240626T205209Z
UID:16288-1734480000-1734566399@hdmsreno.com
SUMMARY:HDMS Winter Expo
DESCRIPTION:
URL:https://hdmsreno.com/event/hdms-winter-expo/
END:VEVENT
BEGIN:VEVENT
DTSTART;TZID=America/Los_Angeles:20241219T173000
DTEND;TZID=America/Los_Angeles:20241219T183000
DTSTAMP:20260423T181216
CREATED:20240626T205329Z
LAST-MODIFIED:20240807T224218Z
UID:16292-1734629400-1734633000@hdmsreno.com
SUMMARY:PTO Meeting (Via Zoom)
DESCRIPTION:
URL:https://hdmsreno.com/event/pto-meeting-via-zoom-5/
END:VEVENT
BEGIN:VEVENT
DTSTART;VALUE=DATE:20241220
DTEND;VALUE=DATE:20241221
DTSTAMP:20260423T181216
CREATED:20240626T205453Z
LAST-MODIFIED:20240626T205453Z
UID:16296-1734652800-1734739199@hdmsreno.com
SUMMARY:No School - Staff Professional Development Day
DESCRIPTION:
URL:https://hdmsreno.com/event/no-school-staff-professional-development-day-3/
END:VEVENT
BEGIN:VEVENT
DTSTART;VALUE=DATE:20241223
DTEND;VALUE=DATE:20241228
DTSTAMP:20260423T181216
CREATED:20240626T205530Z
LAST-MODIFIED:20240626T205530Z
UID:16298-1734912000-1735343999@hdmsreno.com
SUMMARY:No School - Winter Break
DESCRIPTION:
URL:https://hdmsreno.com/event/no-school-winter-break/
END:VEVENT
BEGIN:VEVENT
DTSTART;VALUE=DATE:20241230
DTEND;VALUE=DATE:20250104
DTSTAMP:20260423T181216
CREATED:20240626T205558Z
LAST-MODIFIED:20240626T205558Z
UID:16300-1735516800-1735948799@hdmsreno.com
SUMMARY:No School - Winter Break
DESCRIPTION:
URL:https://hdmsreno.com/event/no-school-winter-break-2/
END:VEVENT
END:VCALENDAR