BEGIN:VCALENDAR
VERSION:2.0
PRODID:-//High Desert Montessori Reno - ECPv6.8.0//NONSGML v1.0//EN
CALSCALE:GREGORIAN
METHOD:PUBLISH
X-WR-CALNAME:High Desert Montessori Reno
X-ORIGINAL-URL:https://hdmsreno.com
X-WR-CALDESC:Events for High Desert Montessori Reno
REFRESH-INTERVAL;VALUE=DURATION:PT1H
X-Robots-Tag:noindex
X-PUBLISHED-TTL:PT1H
BEGIN:VTIMEZONE
TZID:America/Los_Angeles
BEGIN:DAYLIGHT
TZOFFSETFROM:-0800
TZOFFSETTO:-0700
TZNAME:PDT
DTSTART:20240310T100000
END:DAYLIGHT
BEGIN:STANDARD
TZOFFSETFROM:-0700
TZOFFSETTO:-0800
TZNAME:PST
DTSTART:20241103T090000
END:STANDARD
BEGIN:DAYLIGHT
TZOFFSETFROM:-0800
TZOFFSETTO:-0700
TZNAME:PDT
DTSTART:20250309T100000
END:DAYLIGHT
BEGIN:STANDARD
TZOFFSETFROM:-0700
TZOFFSETTO:-0800
TZNAME:PST
DTSTART:20251102T090000
END:STANDARD
END:VTIMEZONE
BEGIN:VEVENT
DTSTART;VALUE=DATE:20241230
DTEND;VALUE=DATE:20250104
DTSTAMP:20260423T165341
CREATED:20240626T205558Z
LAST-MODIFIED:20240626T205558Z
UID:16300-1735516800-1735948799@hdmsreno.com
SUMMARY:No School - Winter Break
DESCRIPTION:
URL:https://hdmsreno.com/event/no-school-winter-break-2/
END:VEVENT
BEGIN:VEVENT
DTSTART;TZID=America/Los_Angeles:20250114T160000
DTEND;TZID=America/Los_Angeles:20250114T170000
DTSTAMP:20260423T165341
CREATED:20240626T205655Z
LAST-MODIFIED:20240626T205655Z
UID:16302-1736870400-1736874000@hdmsreno.com
SUMMARY:JEDI Collaborative Meeting
DESCRIPTION:
URL:https://hdmsreno.com/event/jedi-collaborative-meeting-3/
END:VEVENT
BEGIN:VEVENT
DTSTART;VALUE=DATE:20250115
DTEND;VALUE=DATE:20250116
DTSTAMP:20260423T165341
CREATED:20240626T205723Z
LAST-MODIFIED:20240626T205723Z
UID:16304-1736899200-1736985599@hdmsreno.com
SUMMARY:2-Hour Early Release
DESCRIPTION:
URL:https://hdmsreno.com/event/2-hour-early-release-4/
END:VEVENT
BEGIN:VEVENT
DTSTART;TZID=America/Los_Angeles:20250116T173000
DTEND;TZID=America/Los_Angeles:20250116T183000
DTSTAMP:20260423T165341
CREATED:20240626T205800Z
LAST-MODIFIED:20240807T224158Z
UID:16306-1737048600-1737052200@hdmsreno.com
SUMMARY:PTO Meeting (Via Zoom)
DESCRIPTION:
URL:https://hdmsreno.com/event/pto-meeting-via-zoom-6/
END:VEVENT
BEGIN:VEVENT
DTSTART;TZID=America/Los_Angeles:20250117T090000
DTEND;TZID=America/Los_Angeles:20250117T100000
DTSTAMP:20260423T165341
CREATED:20240626T205838Z
LAST-MODIFIED:20240626T205838Z
UID:16308-1737104400-1737108000@hdmsreno.com
SUMMARY:2nd Cup of Coffee w/ Admin.
DESCRIPTION:
URL:https://hdmsreno.com/event/2nd-cup-of-coffee-w-admin-4/
END:VEVENT
BEGIN:VEVENT
DTSTART;VALUE=DATE:20250120
DTEND;VALUE=DATE:20250121
DTSTAMP:20260423T165341
CREATED:20240626T205912Z
LAST-MODIFIED:20240626T205912Z
UID:16310-1737331200-1737417599@hdmsreno.com
SUMMARY:No School - Martin Luther King Jr. Day
DESCRIPTION:
URL:https://hdmsreno.com/event/no-school-martin-luther-king-jr-day/
END:VEVENT
BEGIN:VEVENT
DTSTART;TZID=America/Los_Angeles:20250129T173000
DTEND;TZID=America/Los_Angeles:20250129T183000
DTSTAMP:20260423T165341
CREATED:20240626T205957Z
LAST-MODIFIED:20250129T195220Z
UID:16312-1738171800-1738175400@hdmsreno.com
SUMMARY:HDMS Board Meeting (via Zoom)
DESCRIPTION:
URL:https://hdmsreno.com/event/hdms-board-meeting-via-zoom-5/
END:VEVENT
BEGIN:VEVENT
DTSTART;TZID=America/Los_Angeles:20250130T163000
DTEND;TZID=America/Los_Angeles:20250130T173000
DTSTAMP:20260423T165341
CREATED:20240626T210034Z
LAST-MODIFIED:20240626T210034Z
UID:16314-1738254600-1738258200@hdmsreno.com
SUMMARY:Family Reading Night with NNLC
DESCRIPTION:
URL:https://hdmsreno.com/event/family-reading-night-with-nnlc-4/
END:VEVENT
END:VCALENDAR