BEGIN:VCALENDAR
VERSION:2.0
PRODID:-//High Desert Montessori Reno - ECPv6.8.0//NONSGML v1.0//EN
CALSCALE:GREGORIAN
METHOD:PUBLISH
X-ORIGINAL-URL:https://hdmsreno.com
X-WR-CALDESC:Events for High Desert Montessori Reno
REFRESH-INTERVAL;VALUE=DURATION:PT1H
X-Robots-Tag:noindex
X-PUBLISHED-TTL:PT1H
BEGIN:VTIMEZONE
TZID:America/Los_Angeles
BEGIN:DAYLIGHT
TZOFFSETFROM:-0800
TZOFFSETTO:-0700
TZNAME:PDT
DTSTART:20250309T100000
END:DAYLIGHT
BEGIN:STANDARD
TZOFFSETFROM:-0700
TZOFFSETTO:-0800
TZNAME:PST
DTSTART:20251102T090000
END:STANDARD
END:VTIMEZONE
BEGIN:VEVENT
DTSTART;VALUE=DATE:20250307
DTEND;VALUE=DATE:20250308
DTSTAMP:20260423T152818
CREATED:20240626T210621Z
LAST-MODIFIED:20240626T210621Z
UID:16330-1741305600-1741391999@hdmsreno.com
SUMMARY:2-Hour Early Release- Spring Conferences
DESCRIPTION:
URL:https://hdmsreno.com/event/2-hour-early-release-spring-conferences/
END:VEVENT
BEGIN:VEVENT
DTSTART;VALUE=DATE:20250310
DTEND;VALUE=DATE:20250314
DTSTAMP:20260423T152818
CREATED:20240626T210653Z
LAST-MODIFIED:20240626T210653Z
UID:16332-1741564800-1741910399@hdmsreno.com
SUMMARY:2-Hour Early Release- Spring Conferences
DESCRIPTION:
URL:https://hdmsreno.com/event/2-hour-early-release-spring-conferences-2/
END:VEVENT
BEGIN:VEVENT
DTSTART;TZID=America/Los_Angeles:20250311T160000
DTEND;TZID=America/Los_Angeles:20250311T170000
DTSTAMP:20260423T152818
CREATED:20240626T210741Z
LAST-MODIFIED:20240626T210741Z
UID:16334-1741708800-1741712400@hdmsreno.com
SUMMARY:JEDI Collaborative Meeting
DESCRIPTION:
URL:https://hdmsreno.com/event/jedi-collaborative-meeting-4/
END:VEVENT
BEGIN:VEVENT
DTSTART;TZID=America/Los_Angeles:20250313T173000
DTEND;TZID=America/Los_Angeles:20250313T183000
DTSTAMP:20260423T152818
CREATED:20240626T210909Z
LAST-MODIFIED:20240807T224120Z
UID:16338-1741887000-1741890600@hdmsreno.com
SUMMARY:PTO Meeting (Via Zoom)
DESCRIPTION:
URL:https://hdmsreno.com/event/pto-meeting-via-zoom-8/
END:VEVENT
BEGIN:VEVENT
DTSTART;VALUE=DATE:20250314
DTEND;VALUE=DATE:20250315
DTSTAMP:20260423T152818
CREATED:20240626T210958Z
LAST-MODIFIED:20240626T210958Z
UID:16340-1741910400-1741996799@hdmsreno.com
SUMMARY:No School - Staff Professional Development Day
DESCRIPTION:
URL:https://hdmsreno.com/event/no-school-staff-professional-development-day-4/
END:VEVENT
BEGIN:VEVENT
DTSTART;VALUE=DATE:20250317
DTEND;VALUE=DATE:20250322
DTSTAMP:20260423T152818
CREATED:20240626T211033Z
LAST-MODIFIED:20240626T211033Z
UID:16342-1742169600-1742601599@hdmsreno.com
SUMMARY:No School - Spring Break
DESCRIPTION:
URL:https://hdmsreno.com/event/no-school-spring-break/
END:VEVENT
BEGIN:VEVENT
DTSTART;VALUE=DATE:20250324
DTEND;VALUE=DATE:20250329
DTSTAMP:20260423T152818
CREATED:20240626T211055Z
LAST-MODIFIED:20240626T211055Z
UID:16344-1742774400-1743206399@hdmsreno.com
SUMMARY:No School - Spring Break
DESCRIPTION:
URL:https://hdmsreno.com/event/no-school-spring-break-2/
END:VEVENT
END:VCALENDAR